BEGIN:VCALENDAR
VERSION:2.0
PRODID:-//Creatively United Community - ECPv6.15.18//NONSGML v1.0//EN
CALSCALE:GREGORIAN
METHOD:PUBLISH
X-WR-CALNAME:Creatively United Community
X-ORIGINAL-URL:https://creativelyunited.org
X-WR-CALDESC:Events for Creatively United Community
REFRESH-INTERVAL;VALUE=DURATION:PT1H
X-Robots-Tag:noindex
X-PUBLISHED-TTL:PT1H
BEGIN:VTIMEZONE
TZID:America/Vancouver
BEGIN:DAYLIGHT
TZOFFSETFROM:-0800
TZOFFSETTO:-0700
TZNAME:PDT
DTSTART:20250309T100000
END:DAYLIGHT
BEGIN:STANDARD
TZOFFSETFROM:-0700
TZOFFSETTO:-0800
TZNAME:PST
DTSTART:20251102T090000
END:STANDARD
BEGIN:DAYLIGHT
TZOFFSETFROM:-0800
TZOFFSETTO:-0700
TZNAME:PDT
DTSTART:20260308T100000
END:DAYLIGHT
BEGIN:STANDARD
TZOFFSETFROM:-0700
TZOFFSETTO:-0800
TZNAME:PST
DTSTART:20261101T090000
END:STANDARD
BEGIN:DAYLIGHT
TZOFFSETFROM:-0800
TZOFFSETTO:-0700
TZNAME:PDT
DTSTART:20270314T100000
END:DAYLIGHT
BEGIN:STANDARD
TZOFFSETFROM:-0700
TZOFFSETTO:-0800
TZNAME:PST
DTSTART:20271107T090000
END:STANDARD
END:VTIMEZONE
BEGIN:VEVENT
DTSTART;TZID=America/Vancouver:20260412T170000
DTEND;TZID=America/Vancouver:20260412T190000
DTSTAMP:20260423T213628
CREATED:20260316T170845Z
LAST-MODIFIED:20260316T170845Z
UID:10010415-1776013200-1776020400@creativelyunited.org
SUMMARY:3rd Climate Justice Social Sunday
DESCRIPTION:3rd Climate Justice Social Sunday April 12\, 5 pm – new location \nWhere: NeighbourSpace – 708 Douglas Street\, beside the Victoria Conference Centre entrance. \nWhat & Why: Informal conversations with other people interested in climate action with intention to create more effective organizing. \nAt the February Climate Justice Social one of the points of conversation was the sheer number of organizations working on the problem here in Greater Victoria\, and how to be more coherent and effective. Is this a conversation you want to continue? Do you want to know what groups are planning\, and how you can get involved? If your group is working on any aspect of the Climate Crisis-we want to hear from you. \nWho: Organized by participants of the November 1\, 2025 Climate Justice Conference including members of Climate Justice Victoria.
URL:https://creativelyunited.org/event/3rd-climate-justice-social-sunday/
LOCATION:Neighbour Space\, 709 Douglas Street\, Victoria\, BC\, Canada
GEO:48.4205225;-123.3659586
X-APPLE-STRUCTURED-LOCATION;VALUE=URI;X-ADDRESS=Neighbour Space 709 Douglas Street Victoria BC Canada;X-APPLE-RADIUS=500;X-TITLE=709 Douglas Street:geo:-123.3659586,48.4205225
END:VEVENT
BEGIN:VEVENT
DTSTART;TZID=America/Vancouver:20260321T100000
DTEND;TZID=America/Vancouver:20260321T113000
DTSTAMP:20260423T213628
CREATED:20260316T195600Z
LAST-MODIFIED:20260316T195600Z
UID:10010418-1774087200-1774092600@creativelyunited.org
SUMMARY:Placemaking Café
DESCRIPTION:Are you wondering how you can get more involved in your community or neighbourhood?  This year the Placemaking Network is hoping to give our community members more reasons and opportunities to gather.  We’re thinking about ways we can host and nurture community: a book club\, our LFL festival\, painting a mural together\, workshops and other ideas our Board is dreaming into.  This month we’re hosting our first Placemaking Café of the year.  Our intention is for these to be regular gatherings\, with different topics and themes that encourage us to connect and engage with our neighbourhoods and shared spaces. \nPlease join us for a guided conversation and exploration on the topic of greeting neighbours–even/especially strangers–and cultivating a local culture of doing so. There will be prompts\, some time for collecting your thoughts on your own\, exploring in small groups\, and bringing together the threads across the room. \nWe’ll have some snacks and refreshments available.  This gathering is FREE to attend. \nWhat:       A guided conversation on GREETING NEIGHBOURS\nWhen:      Saturday March 21\, 10-11:30am\nWhere:    NeighbourSpace\, 708 Douglas St\, beside the Victoria Conference Centre \nCome and share your experiences\, hopes\, challenges\, opinions\, expertise\, curiosity… Everyone is welcome\, we’d love to meet you. \nDoors:      9:45am\nStart:        10am (please arrive on time so the conversation can build)\nEnd:          11:30am \nThere is an accessible entrance at street level and one accessible washroom. \nThe Greater Victoria Placemaking Network is a volunteer-run non-profit society whose mission is to inspire people\, neighbourhoods and communities to create vibrant public places that promote health\, happiness and well-being. \nWe are grateful to the City of Victoria for providing the NeighbourSpace for us to gather. \nThe post Placemaking Café appeared first on Greater Victoria Placemaking Network.
URL:https://creativelyunited.org/event/placemaking-cafe/
LOCATION:Neighbour Space\, 709 Douglas Street\, Victoria\, BC\, Canada
ATTACH;FMTTYPE=image/png:https://creativelyunited.org/wp-content/uploads/2026/03/unnamed.png
GEO:48.4205225;-123.3659586
X-APPLE-STRUCTURED-LOCATION;VALUE=URI;X-ADDRESS=Neighbour Space 709 Douglas Street Victoria BC Canada;X-APPLE-RADIUS=500;X-TITLE=709 Douglas Street:geo:-123.3659586,48.4205225
END:VEVENT
END:VCALENDAR