BEGIN:VCALENDAR
VERSION:2.0
PRODID:-//Creatively United Community - ECPv6.15.18//NONSGML v1.0//EN
CALSCALE:GREGORIAN
METHOD:PUBLISH
X-WR-CALNAME:Creatively United Community
X-ORIGINAL-URL:https://creativelyunited.org
X-WR-CALDESC:Events for Creatively United Community
REFRESH-INTERVAL;VALUE=DURATION:PT1H
X-Robots-Tag:noindex
X-PUBLISHED-TTL:PT1H
BEGIN:VTIMEZONE
TZID:America/Vancouver
BEGIN:DAYLIGHT
TZOFFSETFROM:-0800
TZOFFSETTO:-0700
TZNAME:PDT
DTSTART:20250309T100000
END:DAYLIGHT
BEGIN:STANDARD
TZOFFSETFROM:-0700
TZOFFSETTO:-0800
TZNAME:PST
DTSTART:20251102T090000
END:STANDARD
BEGIN:DAYLIGHT
TZOFFSETFROM:-0800
TZOFFSETTO:-0700
TZNAME:PDT
DTSTART:20260308T100000
END:DAYLIGHT
BEGIN:STANDARD
TZOFFSETFROM:-0700
TZOFFSETTO:-0800
TZNAME:PST
DTSTART:20261101T090000
END:STANDARD
BEGIN:DAYLIGHT
TZOFFSETFROM:-0800
TZOFFSETTO:-0700
TZNAME:PDT
DTSTART:20270314T100000
END:DAYLIGHT
BEGIN:STANDARD
TZOFFSETFROM:-0700
TZOFFSETTO:-0800
TZNAME:PST
DTSTART:20271107T090000
END:STANDARD
END:VTIMEZONE
BEGIN:VEVENT
DTSTART;VALUE=DATE:20260703
DTEND;VALUE=DATE:20260706
DTSTAMP:20260423T212053
CREATED:20260324T163344Z
LAST-MODIFIED:20260324T163344Z
UID:10010443-1783036800-1783295999@creativelyunited.org
SUMMARY:Introduction to Permaculture with Starhawk
DESCRIPTION:A 2.5-day immersion into the ethics\, principles\, and practice of permaculture design — on the land where it’s already being lived. Join Starhawk\, founder of Earth Activist Training\, alongside Indigenous land-based educators and knowledge holders. \nIn-person $495 · Virtual $290 · Meals and accommodation included. \n\n\n\n\n\n\n\n\n\n Learn More & Register →
URL:https://creativelyunited.org/event/introduction-to-permaculture-with-starhawk/
LOCATION:OUR Ecovillage\, O.U.R. Ecovillage 1565 Baldy Mountain Road\, Shawnigan Lake\, BC\, V0R2W2\, Canada
ATTACH;FMTTYPE=image/jpeg:https://creativelyunited.org/wp-content/uploads/2026/03/Screenshot-2026-03-24-093030.jpg
GEO:48.6398616;-123.6097977
X-APPLE-STRUCTURED-LOCATION;VALUE=URI;X-ADDRESS=OUR Ecovillage O.U.R. Ecovillage 1565 Baldy Mountain Road Shawnigan Lake BC V0R2W2 Canada;X-APPLE-RADIUS=500;X-TITLE=O.U.R. Ecovillage 1565 Baldy Mountain Road:geo:-123.6097977,48.6398616
END:VEVENT
BEGIN:VEVENT
DTSTART;VALUE=DATE:20260703
DTEND;VALUE=DATE:20260719
DTSTAMP:20260423T212053
CREATED:20260324T163455Z
LAST-MODIFIED:20260324T163455Z
UID:10010444-1783036800-1784419199@creativelyunited.org
SUMMARY:Permaculture Design Certificate Program
DESCRIPTION:OUR Ecovillage has been teaching this certificate course for decades. This summer’s program goes further — bringing together Indigenous knowledge holders\, land-based educators\, and permaculture practitioners from across North America for a transformational 72-hour journey. \nGraduates receive a PINA-accredited Permaculture Design Certificate\, recognized globally as the entry point to the world of permaculture design. Accommodations and meals included on 25 acres of living\, working land. \n$2\,345 CAD · in-person · Limited spaces \n\n\n\n\n\n\n\n\n\n Learn More & Register →
URL:https://creativelyunited.org/event/permaculture-design-certificate-program/
LOCATION:OUR Ecovillage\, O.U.R. Ecovillage 1565 Baldy Mountain Road\, Shawnigan Lake\, BC\, V0R2W2\, Canada
ATTACH;FMTTYPE=image/jpeg:https://creativelyunited.org/wp-content/uploads/2026/03/Screenshot-2026-03-24-093430.jpg
GEO:48.6398616;-123.6097977
X-APPLE-STRUCTURED-LOCATION;VALUE=URI;X-ADDRESS=OUR Ecovillage O.U.R. Ecovillage 1565 Baldy Mountain Road Shawnigan Lake BC V0R2W2 Canada;X-APPLE-RADIUS=500;X-TITLE=O.U.R. Ecovillage 1565 Baldy Mountain Road:geo:-123.6097977,48.6398616
END:VEVENT
END:VCALENDAR