BEGIN:VCALENDAR
VERSION:2.0
PRODID:-//Creatively United Community - ECPv6.15.18//NONSGML v1.0//EN
CALSCALE:GREGORIAN
METHOD:PUBLISH
X-ORIGINAL-URL:https://creativelyunited.org
X-WR-CALDESC:Events for Creatively United Community
REFRESH-INTERVAL;VALUE=DURATION:PT1H
X-Robots-Tag:noindex
X-PUBLISHED-TTL:PT1H
BEGIN:VTIMEZONE
TZID:America/Vancouver
BEGIN:DAYLIGHT
TZOFFSETFROM:-0800
TZOFFSETTO:-0700
TZNAME:PDT
DTSTART:20250309T100000
END:DAYLIGHT
BEGIN:STANDARD
TZOFFSETFROM:-0700
TZOFFSETTO:-0800
TZNAME:PST
DTSTART:20251102T090000
END:STANDARD
BEGIN:DAYLIGHT
TZOFFSETFROM:-0800
TZOFFSETTO:-0700
TZNAME:PDT
DTSTART:20260308T100000
END:DAYLIGHT
BEGIN:STANDARD
TZOFFSETFROM:-0700
TZOFFSETTO:-0800
TZNAME:PST
DTSTART:20261101T090000
END:STANDARD
BEGIN:DAYLIGHT
TZOFFSETFROM:-0800
TZOFFSETTO:-0700
TZNAME:PDT
DTSTART:20270314T100000
END:DAYLIGHT
BEGIN:STANDARD
TZOFFSETFROM:-0700
TZOFFSETTO:-0800
TZNAME:PST
DTSTART:20271107T090000
END:STANDARD
END:VTIMEZONE
BEGIN:VEVENT
DTSTART;TZID=America/Vancouver:20260321T100000
DTEND;TZID=America/Vancouver:20260321T160000
DTSTAMP:20260424T112857
CREATED:20260306T185455Z
LAST-MODIFIED:20260306T185455Z
UID:10009960-1774087200-1774108800@creativelyunited.org
SUMMARY:BLOOM AND BROOM SPRING WITCHES MARKET
DESCRIPTION:2026 BLOOM AND BROOM SPRING WITCHES MARKET\nSaturday\, March 21\, 2026 | 10:00 AM – 4:00 PM\nProspect Lake Community Hall\n5358 Sparton Road\, Victoria\nFree Admission – All Welcome\nSwag Bags for the First 30 Guests – Food Truck\nImmersive Ritual Stations: Bloom Spell • Broom Blessing • Maiden’s Renewal • Moon Water • Green Witchery\nPARTICIPANTS\nBranda Eggert Art\, Jewelry and Journals\nC Naturals\nCatch A Star Studio\nClair Sentience\nColor Street by Theresa Parkin\nCrochet and Concrete\nGem and I Gem\nGoldstream Honey Works\nIsland Jerky\nIvory Cat Design\nJewelry Designer Laurie A McDonald\nLeaf Filter\nLee Rocks It\nLetty’s Elixers\nMegan JL Evans Art\nMMC Emporium\nMoorbid Designs\nMystic Bones\nNumerologist and Cardoligist Kirsten Foss\nOn Track Wellness\nPixie Glassworks\nPsychic Medium D’Arcy\nRemote Viewer and Coach Terry Andersen\nRooted With Love\nSacred Coast\nSeaside Botanicals\nSundries Crystal Market\nSunset Gourmet\nTamara Fosty Holistic Healing For People and Animals\nTriangle Mountain Freeze Dried\nTriple Goddess Soapery\nVictoria Rae Art\nWool Hoo \n  \nDate and Time: Sat\, 21 Mar 2026 10:00 – Sat\, 21 Mar 2026 16:00 \n  \nVenue details: Prospect Lake Community Hall\, 5358 Sparton Road\, Victoria\, British Columbia\, V9E 2H5\, Canada \n  \nCategory: Community | Markets
URL:https://creativelyunited.org/event/bloom-and-broom-spring-witches-market/
LOCATION:Prospect Lake Community Hall\, 5358 Sparton Road\, Victoria\, V9E 2H5
ATTACH;FMTTYPE=image/jpeg:https://creativelyunited.org/wp-content/uploads/2026/03/3494303.jpg
ORGANIZER;CN="Events by L.A.":MAILTO:eventsbyla@hotmail.com
END:VEVENT
END:VCALENDAR