BEGIN:VCALENDAR
VERSION:2.0
PRODID:-//Creatively United Community - ECPv6.15.18//NONSGML v1.0//EN
CALSCALE:GREGORIAN
METHOD:PUBLISH
X-ORIGINAL-URL:https://creativelyunited.org
X-WR-CALDESC:Events for Creatively United Community
REFRESH-INTERVAL;VALUE=DURATION:PT1H
X-Robots-Tag:noindex
X-PUBLISHED-TTL:PT1H
BEGIN:VTIMEZONE
TZID:America/Vancouver
BEGIN:DAYLIGHT
TZOFFSETFROM:-0800
TZOFFSETTO:-0700
TZNAME:PDT
DTSTART:20250309T100000
END:DAYLIGHT
BEGIN:STANDARD
TZOFFSETFROM:-0700
TZOFFSETTO:-0800
TZNAME:PST
DTSTART:20251102T090000
END:STANDARD
BEGIN:DAYLIGHT
TZOFFSETFROM:-0800
TZOFFSETTO:-0700
TZNAME:PDT
DTSTART:20260308T100000
END:DAYLIGHT
BEGIN:STANDARD
TZOFFSETFROM:-0700
TZOFFSETTO:-0800
TZNAME:PST
DTSTART:20261101T090000
END:STANDARD
BEGIN:DAYLIGHT
TZOFFSETFROM:-0800
TZOFFSETTO:-0700
TZNAME:PDT
DTSTART:20270314T100000
END:DAYLIGHT
BEGIN:STANDARD
TZOFFSETFROM:-0700
TZOFFSETTO:-0800
TZNAME:PST
DTSTART:20271107T090000
END:STANDARD
END:VTIMEZONE
BEGIN:VEVENT
DTSTART;TZID=America/Vancouver:20260502T100000
DTEND;TZID=America/Vancouver:20261031T140000
DTSTAMP:20260423T123919
CREATED:20260420T175846Z
LAST-MODIFIED:20260420T175846Z
UID:10010539-1777716000-1793455200@creativelyunited.org
SUMMARY:Victoria Farmers Market at Moss Street
DESCRIPTION:We operate year-round\, with over 30 local\, organic farmers and another 140+ crafters\, artisans\, food and drink vendors\, cideries\, distillers\, brewers\, vintners\, and more. Stroll the market while listening to live local musicians. Enjoy an amazing hot lunch\, or feast on snacks\, baked goods\, ice cream\, freezies\, coffee\, tea\, or kombucha. All locally made\, there’s something for everyone at Victoria Farmers Market at Moss Street. \nEvery Saturday\, 10am to 2pm\, the market is at Sir James Douglas School (401 Moss Street) and the surrounding Moss and Thurlow boulevards. \nAvoid any chance of having to line up at your favourite farm stall by pre-ordering online at localline.ca/moss-street-market. \n  \nDate and Time: On Sat\, 02 May 2026 10:00 – Sat\, 31 Oct 2026 14:00 \nVenue details: Sir James Douglas Elementary\, 401 Moss Street\, Victoria\, British Columbia\, V8V 4N2\, Canada \nCategory: Community | Markets
URL:https://creativelyunited.org/event/victoria-farmers-market-at-moss-street/
LOCATION:Sir James Douglas Elementary\, 401 Moss Street\, Victoria\, V8V 4N2
ATTACH;FMTTYPE=image/jpeg:https://creativelyunited.org/wp-content/uploads/2026/04/3590817.jpg
ORGANIZER;CN="Victoria Farmers Market at Moss Street":MAILTO:info@MossStreetMarket.com
GEO:48.41554;-123.34771
X-APPLE-STRUCTURED-LOCATION;VALUE=URI;X-ADDRESS=Sir James Douglas Elementary 401 Moss Street Victoria V8V 4N2;X-APPLE-RADIUS=500;X-TITLE=401 Moss Street:geo:-123.34771,48.41554
END:VEVENT
END:VCALENDAR