BEGIN:VCALENDAR
VERSION:2.0
PRODID:-//Creatively United Community - ECPv6.15.18//NONSGML v1.0//EN
CALSCALE:GREGORIAN
METHOD:PUBLISH
X-WR-CALNAME:Creatively United Community
X-ORIGINAL-URL:https://creativelyunited.org
X-WR-CALDESC:Events for Creatively United Community
REFRESH-INTERVAL;VALUE=DURATION:PT1H
X-Robots-Tag:noindex
X-PUBLISHED-TTL:PT1H
BEGIN:VTIMEZONE
TZID:America/Vancouver
BEGIN:DAYLIGHT
TZOFFSETFROM:-0800
TZOFFSETTO:-0700
TZNAME:PDT
DTSTART:20250309T100000
END:DAYLIGHT
BEGIN:STANDARD
TZOFFSETFROM:-0700
TZOFFSETTO:-0800
TZNAME:PST
DTSTART:20251102T090000
END:STANDARD
BEGIN:DAYLIGHT
TZOFFSETFROM:-0800
TZOFFSETTO:-0700
TZNAME:PDT
DTSTART:20260308T100000
END:DAYLIGHT
BEGIN:STANDARD
TZOFFSETFROM:-0700
TZOFFSETTO:-0800
TZNAME:PST
DTSTART:20261101T090000
END:STANDARD
BEGIN:DAYLIGHT
TZOFFSETFROM:-0800
TZOFFSETTO:-0700
TZNAME:PDT
DTSTART:20270314T100000
END:DAYLIGHT
BEGIN:STANDARD
TZOFFSETFROM:-0700
TZOFFSETTO:-0800
TZNAME:PST
DTSTART:20271107T090000
END:STANDARD
END:VTIMEZONE
BEGIN:VEVENT
DTSTART;TZID=America/Vancouver:20260315T190000
DTEND;TZID=America/Vancouver:20260315T210000
DTSTAMP:20260424T090059
CREATED:20260226T012333Z
LAST-MODIFIED:20260226T012333Z
UID:10009884-1773601200-1773608400@creativelyunited.org
SUMMARY:Together in Harmony
DESCRIPTION:Together in Harmony is a benefit concert in support of VICCIR (Vancouver Island Counselling Centre for Immigrants and Refugees)\, taking place on Sunday\, March 15 at 7:00 PM at St John the Divine Anglican Church (1611 Quadra St). \n\n\nThe evening will feature Jordie and Habbous (Arabic music) and Kvell’s Angels (Klezmer music)\, offering a vibrant program that spans cultures\, time\, and place — from entrancing melodies to high-energy celebration. \n\n\nAdmission is by donation ($20 suggested)\, with all proceeds supporting VICCIR’s vital work. As a federally registered charity\, VICCIR provides trauma-informed mental health counselling to immigrants and refugees living on Vancouver Island. With sliding-scale fees\, specially trained interpreters\, and a commitment that no one is turned away due to financial hardship\, VICCIR helps newcomers reduce the impact of trauma\, build resilience\, and participate fully in the communities that welcome them. \n\n\nThose unable to attend are encouraged to support VICCIR through a direct donation: https://www.viccir.org/donate
URL:https://creativelyunited.org/event/together-in-harmony/
LOCATION:St John The Divine Anglican Church\, 1611 Quadra St\,\, Victoria\, BC\, V8T 1A2
ATTACH;FMTTYPE=image/jpeg:https://creativelyunited.org/wp-content/uploads/2026/02/Together-in-Harmony.jpg
END:VEVENT
BEGIN:VEVENT
DTSTART;TZID=America/Vancouver:20260315T190000
DTEND;TZID=America/Vancouver:20260315T203000
DTSTAMP:20260424T090059
CREATED:20260227T182307Z
LAST-MODIFIED:20260227T191649Z
UID:10009947-1773601200-1773606600@creativelyunited.org
SUMMARY:"Together in Harmony" benefit concert for VICCIR March 15\, 7pm. St John the Divine
DESCRIPTION:Together in Harmony is a benefit concert in support of VICCIR (Vancouver Island Counselling Centre for Immigrants and Refugees)\, taking place on Sunday\, March 15 at 7:00 PM at St John the Divine Anglican Church (1611 Quadra St).\n\nThe evening will feature Jordie and Habbous (Arabic music) and Kvell’s Angels (Klezmer music)\, offering a vibrant program that spans cultures\, time\, and place — from entrancing melodies to high-energy celebration.\n\nAdmission is by donation ($20 suggested)\, with all proceeds supporting VICCIR’s vital work. As a federally registered charity\, VICCIR provides trauma-informed mental health counselling to immigrants and refugees living on Vancouver Island. With sliding-scale fees\, specially trained interpreters\, and a commitment that no one is turned away due to financial hardship\, VICCIR helps newcomers reduce the impact of trauma\, build resilience\, and participate fully in the communities that welcome them.\n\nThose unable to attend are encouraged to support VICCIR through a direct Tax deductible donation via their website: https://www.viccir.org/donate\n\n\nFor more information contact CEE.Refugee@gmail.com
URL:https://creativelyunited.org/event/together-in-harmony-benefit-concert-for-viccir-march-15-7pm-st-john-the-divine/
LOCATION:St John The Divine Anglican Church\, 1611 Quadra St\,\, Victoria\, BC\, V8T 1A2
ATTACH;FMTTYPE=image/jpeg:https://creativelyunited.org/wp-content/uploads/2026/02/Together-in-Harmony.jpg
END:VEVENT
END:VCALENDAR