BEGIN:VCALENDAR
VERSION:2.0
PRODID:-//Creatively United Community - ECPv6.15.18//NONSGML v1.0//EN
CALSCALE:GREGORIAN
METHOD:PUBLISH
X-ORIGINAL-URL:https://creativelyunited.org
X-WR-CALDESC:Events for Creatively United Community
REFRESH-INTERVAL;VALUE=DURATION:PT1H
X-Robots-Tag:noindex
X-PUBLISHED-TTL:PT1H
BEGIN:VTIMEZONE
TZID:America/Vancouver
BEGIN:DAYLIGHT
TZOFFSETFROM:-0800
TZOFFSETTO:-0700
TZNAME:PDT
DTSTART:20250309T100000
END:DAYLIGHT
BEGIN:STANDARD
TZOFFSETFROM:-0700
TZOFFSETTO:-0800
TZNAME:PST
DTSTART:20251102T090000
END:STANDARD
BEGIN:DAYLIGHT
TZOFFSETFROM:-0800
TZOFFSETTO:-0700
TZNAME:PDT
DTSTART:20260308T100000
END:DAYLIGHT
BEGIN:STANDARD
TZOFFSETFROM:-0700
TZOFFSETTO:-0800
TZNAME:PST
DTSTART:20261101T090000
END:STANDARD
BEGIN:DAYLIGHT
TZOFFSETFROM:-0800
TZOFFSETTO:-0700
TZNAME:PDT
DTSTART:20270314T100000
END:DAYLIGHT
BEGIN:STANDARD
TZOFFSETFROM:-0700
TZOFFSETTO:-0800
TZNAME:PST
DTSTART:20271107T090000
END:STANDARD
END:VTIMEZONE
BEGIN:VEVENT
DTSTART;TZID=America/Vancouver:20260509T193000
DTEND;TZID=America/Vancouver:20260509T203000
DTSTAMP:20260423T124440
CREATED:20260401T183543Z
LAST-MODIFIED:20260401T183543Z
UID:10010475-1778355000-1778358600@creativelyunited.org
SUMMARY:Vox Humana Chamber Choir presents: Life and Laughter
DESCRIPTION:Life is a collection of moments and experiences\, ranging from the ridiculous to the profound\, from the sad and the poignant\, to the joyous and mirthful. LIFE AND LAUGHTER explores the nuances of life from both a philosophical viewpoint\, but also with a humorous eye. \nFeaturing the Six Chansons by Paul Hindemith and the Reincarnations by Samuel Barber\, the programme is rounded out with songs and pieces by Kathleen Allen\, Sarah Rimkus\, Leonard Cohen\, and more. Conducted by Vox Humana’s Artistic Director\, David Stratkauskas. \nTickets: https://go.evvnt.com/3557545-0?pid=10320 \nDate and Time: Sat\, 09 May 2026 19:30 – Sat\, 09 May 2026 20:30 \nVenue details: St. John the Divine Anglican Church\, 1611 Quadra Street\, Victoria\, British Columbia\, V8T 1A2\, Canada \n  \nCategory: Live Music | Choral \nPrices:\nGeneral Admission: CAD 35.00\,\nSeniors (65 +): CAD 30.00\,\n25 and under: CAD 0.00 \nArtists: Featuring the Six Chansons by Paul Hindemith and the Reincarnations by Samuel Barber\, the programme is rounded out with songs and pieces by Kathleen Allen\, Sarah Rimkus\, Leonard Cohen\, and more.
URL:https://creativelyunited.org/event/vox-humana-chamber-choir-presents-life-and-laughter/
LOCATION:St. John the Divine Anglican Church\, 1611 Quadra Street\, Victoria\, V8T 1A2
ATTACH;FMTTYPE=image/jpeg:https://creativelyunited.org/wp-content/uploads/2026/04/3557545.jpg
ORGANIZER;CN="Vox Humana Chamber Choir Society":MAILTO:admin@voxhumanachoir.ca
GEO:48.4283214;-123.3585127
X-APPLE-STRUCTURED-LOCATION;VALUE=URI;X-ADDRESS=St. John the Divine Anglican Church 1611 Quadra Street Victoria V8T 1A2;X-APPLE-RADIUS=500;X-TITLE=1611 Quadra Street:geo:-123.3585127,48.4283214
END:VEVENT
END:VCALENDAR