BEGIN:VCALENDAR
VERSION:2.0
PRODID:-//Creatively United Community - ECPv6.15.18//NONSGML v1.0//EN
CALSCALE:GREGORIAN
METHOD:PUBLISH
X-ORIGINAL-URL:https://creativelyunited.org
X-WR-CALDESC:Events for Creatively United Community
REFRESH-INTERVAL;VALUE=DURATION:PT1H
X-Robots-Tag:noindex
X-PUBLISHED-TTL:PT1H
BEGIN:VTIMEZONE
TZID:America/Vancouver
BEGIN:DAYLIGHT
TZOFFSETFROM:-0800
TZOFFSETTO:-0700
TZNAME:PDT
DTSTART:20250309T100000
END:DAYLIGHT
BEGIN:STANDARD
TZOFFSETFROM:-0700
TZOFFSETTO:-0800
TZNAME:PST
DTSTART:20251102T090000
END:STANDARD
BEGIN:DAYLIGHT
TZOFFSETFROM:-0800
TZOFFSETTO:-0700
TZNAME:PDT
DTSTART:20260308T100000
END:DAYLIGHT
BEGIN:STANDARD
TZOFFSETFROM:-0700
TZOFFSETTO:-0800
TZNAME:PST
DTSTART:20261101T090000
END:STANDARD
BEGIN:DAYLIGHT
TZOFFSETFROM:-0800
TZOFFSETTO:-0700
TZNAME:PDT
DTSTART:20270314T100000
END:DAYLIGHT
BEGIN:STANDARD
TZOFFSETFROM:-0700
TZOFFSETTO:-0800
TZNAME:PST
DTSTART:20271107T090000
END:STANDARD
END:VTIMEZONE
BEGIN:VEVENT
DTSTART;TZID=America/Vancouver:20260406T190000
DTEND;TZID=America/Vancouver:20260406T210000
DTSTAMP:20260423T144417
CREATED:20260311T165255Z
LAST-MODIFIED:20260311T165255Z
UID:10010034-1775502000-1775509200@creativelyunited.org
SUMMARY:Ukulele Strumalong
DESCRIPTION:Fee: $10\nStrumalong from 7pm – 9pm\nSong books available for purchase at the stage for $30 per book\nFirst come\, first served as seats cannot be reserved.\nCome early for food and drink at 5:30 – support your neighbourhood pub \nURL:\nWebsite: https://evvnt.com/events/?_ev_id=3514794 \nDate and Time: On Monday April 06\, 2026 at 19:00 – 21:00 \nVenue details: The Fernwood Inn\, 1302 Gladstone Avenue\, Victoria\, British Columbia\, V8R 1S1\, Canada \nCategory: Community | Local / Community
URL:https://creativelyunited.org/event/ukulele-strumalong/
LOCATION:The Fernwood Inn\, 1302 Gladstone Avenue\, Victoria\, V8R 1S1
ATTACH;FMTTYPE=image/jpeg:https://creativelyunited.org/wp-content/uploads/2026/03/3514794.jpg
ORGANIZER;CN="Ukulele Strumalong":MAILTO:mollyrahernewman@gmail.com
GEO:48.4306253;-123.3449203
X-APPLE-STRUCTURED-LOCATION;VALUE=URI;X-ADDRESS=The Fernwood Inn 1302 Gladstone Avenue Victoria V8R 1S1;X-APPLE-RADIUS=500;X-TITLE=1302 Gladstone Avenue:geo:-123.3449203,48.4306253
END:VEVENT
BEGIN:VEVENT
DTSTART;TZID=America/Vancouver:20260302T190000
DTEND;TZID=America/Vancouver:20260302T210000
DTSTAMP:20260423T144417
CREATED:20260212T063109Z
LAST-MODIFIED:20260212T063109Z
UID:10009781-1772478000-1772485200@creativelyunited.org
SUMMARY:Ukulele Strumalong
DESCRIPTION:Fee: $10\nStrumalong from 7pm – 9pm\nSong books available for purchase at the stage for $30 per book\nFirst come\, first served as seats cannot be reserved.\nCome early for food and drink at 5:30 – support your neighbourhood pub \nURL:\nWebsite: https://evvnt.com/events/?_ev_id=3469801 \nDate and Time: On Mon\, 02 Mar 2026 19:00 – 21:00 \nVenue details: The Fernwood Inn\, 1302 Gladstone Avenue\, Victoria\, British Columbia\, V8R 1S1\, Canada \nCategory: Community | Local / Community
URL:https://creativelyunited.org/event/ukulele-strumalong-3/
LOCATION:The Fernwood Inn\, 1302 Gladstone Avenue\, Victoria\, V8R 1S1
GEO:48.4306253;-123.3449203
X-APPLE-STRUCTURED-LOCATION;VALUE=URI;X-ADDRESS=The Fernwood Inn 1302 Gladstone Avenue Victoria V8R 1S1;X-APPLE-RADIUS=500;X-TITLE=1302 Gladstone Avenue:geo:-123.3449203,48.4306253
END:VEVENT
END:VCALENDAR