BEGIN:VCALENDAR
VERSION:2.0
PRODID:-//Creatively United Community - ECPv6.15.18//NONSGML v1.0//EN
CALSCALE:GREGORIAN
METHOD:PUBLISH
X-WR-CALNAME:Creatively United Community
X-ORIGINAL-URL:https://creativelyunited.org
X-WR-CALDESC:Events for Creatively United Community
REFRESH-INTERVAL;VALUE=DURATION:PT1H
X-Robots-Tag:noindex
X-PUBLISHED-TTL:PT1H
BEGIN:VTIMEZONE
TZID:America/Vancouver
BEGIN:DAYLIGHT
TZOFFSETFROM:-0800
TZOFFSETTO:-0700
TZNAME:PDT
DTSTART:20250309T100000
END:DAYLIGHT
BEGIN:STANDARD
TZOFFSETFROM:-0700
TZOFFSETTO:-0800
TZNAME:PST
DTSTART:20251102T090000
END:STANDARD
BEGIN:DAYLIGHT
TZOFFSETFROM:-0800
TZOFFSETTO:-0700
TZNAME:PDT
DTSTART:20260308T100000
END:DAYLIGHT
BEGIN:STANDARD
TZOFFSETFROM:-0700
TZOFFSETTO:-0800
TZNAME:PST
DTSTART:20261101T090000
END:STANDARD
BEGIN:DAYLIGHT
TZOFFSETFROM:-0800
TZOFFSETTO:-0700
TZNAME:PDT
DTSTART:20270314T100000
END:DAYLIGHT
BEGIN:STANDARD
TZOFFSETFROM:-0700
TZOFFSETTO:-0800
TZNAME:PST
DTSTART:20271107T090000
END:STANDARD
END:VTIMEZONE
BEGIN:VEVENT
DTSTART;TZID=America/Vancouver:20260509T110000
DTEND;TZID=America/Vancouver:20260509T160000
DTSTAMP:20260424T054136
CREATED:20260420T161528Z
LAST-MODIFIED:20260420T161528Z
UID:10010537-1778324400-1778342400@creativelyunited.org
SUMMARY:Mother's Day Market at Langford Station
DESCRIPTION:Market featuring local artisans\, a tea tent with complimentary tea for moms\, and prize basket draw \nURL:\nFacebook: https://go.evvnt.com/3591458-0?pid=10320 \nDate and Time: On Sat\, 09 May 2026 11:00 – 16:00 \nVenue details: The Langford Station\, 720 Station Avenue\, Langford\, British Columbia\, V9B 2S1\, Canada \nCategory: Community | Markets
URL:https://creativelyunited.org/event/mothers-day-market-at-langford-station/
LOCATION:The Langford Station\, 720 Station Avenue\, Langford\, V9B 2S1
ATTACH;FMTTYPE=image/jpeg:https://creativelyunited.org/wp-content/uploads/2026/04/3591458_jp_460.jpg
ORGANIZER;CN="Island Vibes Boutique":MAILTO:islandvibesboutique@outlook.com
GEO:48.4468631;-123.4973139
X-APPLE-STRUCTURED-LOCATION;VALUE=URI;X-ADDRESS=The Langford Station 720 Station Avenue Langford V9B 2S1;X-APPLE-RADIUS=500;X-TITLE=720 Station Avenue:geo:-123.4973139,48.4468631
END:VEVENT
END:VCALENDAR