BEGIN:VCALENDAR
VERSION:2.0
PRODID:-//Creatively United Community - ECPv6.15.18//NONSGML v1.0//EN
CALSCALE:GREGORIAN
METHOD:PUBLISH
X-WR-CALNAME:Creatively United Community
X-ORIGINAL-URL:https://creativelyunited.org
X-WR-CALDESC:Events for Creatively United Community
REFRESH-INTERVAL;VALUE=DURATION:PT1H
X-Robots-Tag:noindex
X-PUBLISHED-TTL:PT1H
BEGIN:VTIMEZONE
TZID:America/Vancouver
BEGIN:DAYLIGHT
TZOFFSETFROM:-0800
TZOFFSETTO:-0700
TZNAME:PDT
DTSTART:20250309T100000
END:DAYLIGHT
BEGIN:STANDARD
TZOFFSETFROM:-0700
TZOFFSETTO:-0800
TZNAME:PST
DTSTART:20251102T090000
END:STANDARD
BEGIN:DAYLIGHT
TZOFFSETFROM:-0800
TZOFFSETTO:-0700
TZNAME:PDT
DTSTART:20260308T100000
END:DAYLIGHT
BEGIN:STANDARD
TZOFFSETFROM:-0700
TZOFFSETTO:-0800
TZNAME:PST
DTSTART:20261101T090000
END:STANDARD
BEGIN:DAYLIGHT
TZOFFSETFROM:-0800
TZOFFSETTO:-0700
TZNAME:PDT
DTSTART:20270314T100000
END:DAYLIGHT
BEGIN:STANDARD
TZOFFSETFROM:-0700
TZOFFSETTO:-0800
TZNAME:PST
DTSTART:20271107T090000
END:STANDARD
END:VTIMEZONE
BEGIN:VEVENT
DTSTART;TZID=America/Vancouver:20260422T120000
DTEND;TZID=America/Vancouver:20260422T130000
DTSTAMP:20260423T105237
CREATED:20260416T223738Z
LAST-MODIFIED:20260416T223738Z
UID:10010529-1776859200-1776862800@creativelyunited.org
SUMMARY:Advocating for Climate Solutions Through Public Policy: Lunch and Learn
DESCRIPTION:Learn about climate adaptation in BC and the role of public policy in addressing risks that extend beyond individual action. \n\n\n\n\nJoin us for a special Lunch & Learn in honour of Earth Day. Policy problems are complex\, often contested\, issues that demand public policy action rather than just individual solutions. What problems have remained largely hidden and unaddressed in British Columbia policy and planning contexts? Drawing on theme on Earth Day\, we will explore questions of individual versus government responsibility through local examples of climate change and adaption such as extreme heat\, wildfires\, and risk response. The aim is to better understand climate adaption and how to advocate on behalf of policy problems. \nThis is an in-person and online event. \nPlease register for the Virtual Attendee ticket to recieve the Zoom link \nIn person attendees are welcome to bring their lunch and eat while listening to the presentation. \nPresenter \nAndréanne Doyon is an Associate Professor in the School of Resource and Environmental Management at Simon Fraser University\, and the Associate Dean Undergraduate for the Faculty of Environment. She is a Registered Professional Planner and a Member of the Canadian Institute of Planners. Her field of study primarily revolves around planning\, climate change\, and resilience. Her research focuses on how cities and regions can adapt and transform to respond to environmental and social challenges. Recently this included planning for extreme heat\, alternative approaches to costal adaptation\, and nature-based infrastructure in rural and Indigenous communities.
URL:https://creativelyunited.org/event/advocating-for-climate-solutions-through-public-policy-lunch-and-learn/
LOCATION:Webinar\, Webinar\, Webinar\, Canada
END:VEVENT
BEGIN:VEVENT
DTSTART;TZID=America/Vancouver:20260422T100000
DTEND;TZID=America/Vancouver:20260422T110000
DTSTAMP:20260423T105237
CREATED:20260415T163447Z
LAST-MODIFIED:20260415T163447Z
UID:10010523-1776852000-1776855600@creativelyunited.org
SUMMARY:Wild About Earth!
DESCRIPTION:Get ready to go wild for our planet! Join us online for Earth Day: Wild About Earth! and celebrate all the amazing ways we can protect and cherish Mother Nature. Expect fun activities\, inspiring stories\, and cool tips to make every day a little greener. Whether you’re a nature lover or just curious\, this event is for you. So grab your favorite snacks\, get comfy\, and let’s make some eco-friendly memories together!
URL:https://creativelyunited.org/event/wild-about-earth/
LOCATION:Webinar\, Webinar\, Webinar\, Canada
ATTACH;FMTTYPE=image/jpeg:https://creativelyunited.org/wp-content/uploads/2026/04/Screenshot-2026-04-15-093043.jpg
END:VEVENT
BEGIN:VEVENT
DTSTART;TZID=America/Vancouver:20260415T120000
DTEND;TZID=America/Vancouver:20260415T130000
DTSTAMP:20260423T105237
CREATED:20260407T161853Z
LAST-MODIFIED:20260407T161853Z
UID:10010493-1776254400-1776258000@creativelyunited.org
SUMMARY:Becoming a Good Relative with Hilary Giovale
DESCRIPTION:Join the next Resilience and Possibility in These Times for a conversation with Hilary Giovale\, author of Becoming a Good Relative: Calling White Settlers toward Truth\, Healing\, and Repair. Hilary brings rare clarity and humility to the spiritual and strategic journey of repair and reckoning with the harmful legacies of colonialism. With skill and grace\, she models how we can choose truth-telling over denial\, accountability over paralysis\, and generative grief over shame. \nShe speaks to the grief many feel in the journey to truly understand and heal the legacies and erasures that have shaped us. Facing ancestral history can open pathways toward healing and collective liberation—supporting Indigenous leadership\, repairing harm\, and reclaiming an embodied sense of belonging within one’s own lineage\, without appropriation. \n\n\n\n\n\n\n\n\n\n\n\n\n\n\n JOIN THE CALL \n\n\n\n  \n\n\n\n\n\n\n\n\n\n\n\nAt a time when social fractures run deep\, she reminds us that a sustainable\, just\, and thriving future will be created in deep relationship with our own lineages\, with the land\, and with one another. Most importantly\, it will be forged in the responsibility that comes from being alive and awake in these times. \nThis conversation will invite us to examine colonial history with depth\, honesty and equanimity so we can transform these harmful legacies into a sacred responsibility for the flourishing of Life and a future that works for all. \nWe hope you’ll join us for this important and exciting conversation.
URL:https://creativelyunited.org/event/becoming-a-good-relative-with-hilary-giovale/
LOCATION:Webinar\, Webinar\, Webinar\, Canada
ATTACH;FMTTYPE=image/jpeg:https://creativelyunited.org/wp-content/uploads/2026/04/Screenshot-2026-04-07-091745.jpg
END:VEVENT
END:VCALENDAR