BEGIN:VCALENDAR
VERSION:2.0
PRODID:-//Creatively United Community - ECPv6.15.18//NONSGML v1.0//EN
CALSCALE:GREGORIAN
METHOD:PUBLISH
X-WR-CALNAME:Creatively United Community
X-ORIGINAL-URL:https://creativelyunited.org
X-WR-CALDESC:Events for Creatively United Community
REFRESH-INTERVAL;VALUE=DURATION:PT1H
X-Robots-Tag:noindex
X-PUBLISHED-TTL:PT1H
BEGIN:VTIMEZONE
TZID:America/Vancouver
BEGIN:DAYLIGHT
TZOFFSETFROM:-0800
TZOFFSETTO:-0700
TZNAME:PDT
DTSTART:20250309T100000
END:DAYLIGHT
BEGIN:STANDARD
TZOFFSETFROM:-0700
TZOFFSETTO:-0800
TZNAME:PST
DTSTART:20251102T090000
END:STANDARD
BEGIN:DAYLIGHT
TZOFFSETFROM:-0800
TZOFFSETTO:-0700
TZNAME:PDT
DTSTART:20260308T100000
END:DAYLIGHT
BEGIN:STANDARD
TZOFFSETFROM:-0700
TZOFFSETTO:-0800
TZNAME:PST
DTSTART:20261101T090000
END:STANDARD
BEGIN:DAYLIGHT
TZOFFSETFROM:-0800
TZOFFSETTO:-0700
TZNAME:PDT
DTSTART:20270314T100000
END:DAYLIGHT
BEGIN:STANDARD
TZOFFSETFROM:-0700
TZOFFSETTO:-0800
TZNAME:PST
DTSTART:20271107T090000
END:STANDARD
END:VTIMEZONE
BEGIN:VEVENT
DTSTART;TZID=America/Vancouver:20260308T143000
DTEND;TZID=America/Vancouver:20260308T153000
DTSTAMP:20260423T234711
CREATED:20260212T195922Z
LAST-MODIFIED:20260212T195922Z
UID:10009786-1772980200-1772983800@creativelyunited.org
SUMMARY:Ancestral Voices and Songs about Nature
DESCRIPTION:A stirring and inspirational recital by renowned mezzo soprano Marion Newman and collaborative pianist Robert Holliston. The concert will highlight the beauty of nature\, the interconnection of all living things\, as well as the need for reconciliation and environmental and societal equity with the performance of Bramwell Tovey’s song cycle Ancestral Voices\, written for Marion Newman and first performed in 2017. \nPart of the Celebrating Gaia Series 2026 \n 
URL:https://creativelyunited.org/event/ancestral-voices-and-songs-about-nature/
LOCATION:Wentworth Villa\, 1156 Fort St\, Victoria\, BC\, Canada
END:VEVENT
END:VCALENDAR